BEGIN:VCALENDAR
VERSION:2.0
PRODID:-//Jumpin Shrimp - ECPv6.15.20//NONSGML v1.0//EN
CALSCALE:GREGORIAN
METHOD:PUBLISH
X-ORIGINAL-URL:https://jumpinshrimpvb.com
X-WR-CALDESC:Events for Jumpin Shrimp
REFRESH-INTERVAL;VALUE=DURATION:PT1H
X-Robots-Tag:noindex
X-PUBLISHED-TTL:PT1H
BEGIN:VTIMEZONE
TZID:America/New_York
BEGIN:DAYLIGHT
TZOFFSETFROM:-0500
TZOFFSETTO:-0400
TZNAME:EDT
DTSTART:20250309T070000
END:DAYLIGHT
BEGIN:STANDARD
TZOFFSETFROM:-0400
TZOFFSETTO:-0500
TZNAME:EST
DTSTART:20251102T060000
END:STANDARD
BEGIN:DAYLIGHT
TZOFFSETFROM:-0500
TZOFFSETTO:-0400
TZNAME:EDT
DTSTART:20260308T070000
END:DAYLIGHT
BEGIN:STANDARD
TZOFFSETFROM:-0400
TZOFFSETTO:-0500
TZNAME:EST
DTSTART:20261101T060000
END:STANDARD
BEGIN:DAYLIGHT
TZOFFSETFROM:-0500
TZOFFSETTO:-0400
TZNAME:EDT
DTSTART:20270314T070000
END:DAYLIGHT
BEGIN:STANDARD
TZOFFSETFROM:-0400
TZOFFSETTO:-0500
TZNAME:EST
DTSTART:20271107T060000
END:STANDARD
END:VTIMEZONE
BEGIN:VEVENT
DTSTART;TZID=America/New_York:20260426T133000
DTEND;TZID=America/New_York:20260426T170000
DTSTAMP:20260420T012341
CREATED:20260417T185811Z
LAST-MODIFIED:20260417T185856Z
UID:1631-1777210200-1777222800@jumpinshrimpvb.com
SUMMARY:Test Event
DESCRIPTION:Description of event…
URL:https://jumpinshrimpvb.com/event/test-event/
LOCATION:Jumpin Shrimp\, 1211 ATLANTIC AVE. BOARDWALK\, Virginia Beach\, 23451\, United States
ATTACH;FMTTYPE=image/png:https://jumpinshrimpvb.com/wp-content/uploads/2026/04/100x100-CCM.png
END:VEVENT
END:VCALENDAR